BEGIN:VCALENDAR
VERSION:2.0
PRODID:-//TYPO3/NONSGML Calendarize//EN
BEGIN:VEVENT
UID:calendarize-treffen-des-arbeitskreises-mobilitaet-12
DTSTAMP:20260420T041222Z
DTSTART:20260511T160000Z
DTEND:20260511T170000Z
SUMMARY:Treffen des Arbeitskreises Mobilität
DESCRIPTION:Der AK Mobilität spricht über die Sicherheit von Fußgänger
 n in Shared Spaces\, CiCoBw und über alles\, was Ihr mitbringt. Interessi
 erte sind herzlich willkommen. 
X-ALT-DESC;FMTTYPE=text/html:<p>Der AK Mobilität spricht über die Sicher
 heit von Fußgängern in Shared Spaces\, CiCoBw und über alles\, was Ihr 
 mitbringt. Interessierte sind herzlich willkommen.&nbsp\;</p>
LOCATION:Grünes Büro, Poststraße 2-4, 72070 Tübingen,
END:VEVENT
END:VCALENDAR
