BEGIN:VCALENDAR
VERSION:2.0
PRODID:-//TYPO3/NONSGML Calendarize//EN
BEGIN:VEVENT
UID:calendarize-auftakt-der-e-auto-mentorinnen
DTSTAMP:20260420T042600Z
DTSTART:20260511T170000Z
DTEND:20260511T190000Z
SUMMARY:Auftakt der E-Auto-Mentor*innen
DESCRIPTION:Beim Auftakttreffen der E-Auto-Mentor*innen wird darüber gesp
 rochen\, was sie machen wollen. Die Möglichkeiten werden vorgestellt und 
 Ideen gesammelt. Der Arbeitskreis Mobilität initiiert die Gruppe. Danach 
 wird sie aber partei-unabhängig sein. Interessierte sind herzlich willkom
 men.
X-ALT-DESC;FMTTYPE=text/html:<p>Beim Auftakttreffen der E-Auto-Mentor*inne
 n wird darüber gesprochen\, was sie machen wollen. Die Möglichkeiten wer
 den vorgestellt und Ideen gesammelt. Der Arbeitskreis Mobilität initiiert
  die Gruppe. Danach wird sie aber partei-unabhängig sein. Interessierte s
 ind herzlich willkommen.</p>
LOCATION:
END:VEVENT
END:VCALENDAR
